BEGIN:VCALENDAR
METHOD:PUBLISH
PRODID:-//github.com/rianjs/ical.net//NONSGML ical.net 4.0//EN
URL:https://www.yoursu.org/ents/event/ics/11414/
VERSION:2.0
X-PUBLISHED-TTL:PT1H
X-WR-CALNAME:Dean's Talk (11414)
BEGIN:VTIMEZONE
TZID:GMT Standard Time
X-LIC-LOCATION:Europe/London
BEGIN:STANDARD
DTSTART:20241027T020000
RRULE:FREQ=YEARLY;BYDAY=4SU;BYMONTH=10
TZNAME:GMT
TZOFFSETFROM:+0100
TZOFFSETTO:+0000
END:STANDARD
BEGIN:DAYLIGHT
DTSTART:20250330T010000
RRULE:FREQ=YEARLY;BYDAY=-1SU;BYMONTH=3
TZNAME:BST
TZOFFSETFROM:+0000
TZOFFSETTO:+0100
END:DAYLIGHT
END:VTIMEZONE
BEGIN:VEVENT
CATEGORIES:Welcome
CATEGORIES:Coventry University London
CREATED:20250811T144647
DESCRIPTION:Join the Dean for an inspiring welcome to the academic year. H
 ear about upcoming opportunities\, university priorities\, and how you ca
 n make the most of your time on campus. A great way to start the year inf
 ormed\, motivated\, and conne\n\nhttps://www.yoursu.org/ents/event/11414/
 \n
DTEND;VALUE=DATE:20260705
DTSTAMP:20260421T121630Z
DTSTART;VALUE=DATE:20260704
LAST-MODIFIED:20250820T125927
LOCATION:University House London Campus
SEQUENCE:0
SUMMARY:Dean's Talk
UID:e27000ef-beec-464e-962c-862f6adc01e1
URL:https://www.yoursu.org/ents/event/11414/
X-ALT-DESC;FMTTYPE=text/html:<html><head><base href="https://www.yoursu.or
 g"></head><body><p>Join the Dean for an inspiring welcome to the academic
  year. Hear about upcoming opportunities\, university priorities\, and ho
 w you can make the most of your time on campus. A great way to start the 
 year informed\, motivated\, and conne</p><p>https://www.yoursu.org/ents/e
 vent/11414/</p>\n</body></html>
END:VEVENT
END:VCALENDAR
