BEGIN:VCALENDAR
METHOD:PUBLISH
PRODID:-//github.com/rianjs/ical.net//NONSGML ical.net 4.0//EN
URL:https://www.yoursu.org/ents/event/ics/11416/
VERSION:2.0
X-PUBLISHED-TTL:PT1H
X-WR-CALNAME:Pool Tournament (11416)
BEGIN:VTIMEZONE
TZID:GMT Standard Time
X-LIC-LOCATION:Europe/London
BEGIN:STANDARD
DTSTART:20241027T020000
RRULE:FREQ=YEARLY;BYDAY=4SU;BYMONTH=10
TZNAME:GMT
TZOFFSETFROM:+0100
TZOFFSETTO:+0000
END:STANDARD
BEGIN:DAYLIGHT
DTSTART:20250330T010000
RRULE:FREQ=YEARLY;BYDAY=-1SU;BYMONTH=3
TZNAME:BST
TZOFFSETFROM:+0000
TZOFFSETTO:+0100
END:DAYLIGHT
END:VTIMEZONE
BEGIN:VEVENT
CATEGORIES:Coventry University London
CATEGORIES:Welcome
CREATED:20250811T145828
DESCRIPTION:Cue Up for Campus Glory- A tournament open to all skill levels
 \, with prizes for winners and a friendly\, competitive atmosphere.\n\nht
 tps://www.yoursu.org/ents/event/11416/\n
DTEND:20260624T140000
DTSTAMP:20260421T165848Z
DTSTART:20260624T130000
LAST-MODIFIED:20260303T152732
LOCATION:University House London Campus 3rd Floor
SEQUENCE:0
SUMMARY:Pool Tournament
UID:19b3fc9a-7bb0-44a6-9c30-90bc8f0e2881
URL:https://www.yoursu.org/ents/event/11416/
X-ALT-DESC;FMTTYPE=text/html:<html><head><base href="https://www.yoursu.or
 g"></head><body><p>Cue Up for Campus Glory- A tournament open to all skil
 l levels\, with prizes for winners and a friendly\, competitive atmospher
 e.</p><p>https://www.yoursu.org/ents/event/11416/</p>\n<p data-end="251" 
 data-start="23">Ready to test your aim and steady your nerves? The Pool T
 ournament is a friendly but competitive event open to all students\, offe
 ring the chance to showcase your skills\, meet new people\, and enjoy som
 e light-hearted competition.</p>\n\n<p data-end="467" data-start="253">Th
 e tournament will follow a structured knockout format\, building the exci
 tement round by round until a champion is crowned. Small prizes will be a
 warded to the winners\,&nbsp\;but the real reward is the bragging rights.
 </p>\n\n<p data-end="560" data-start="469">Whether you&rsquo\;re a season
 ed player or just up for a challenge\, come along and take your shot.</p>
 \n\n<p data-end="581" data-start="562"><strong data-end="571" data-start=
 "562">Date:</strong> 24 June</p>\n\n<p data-end="581" data-start="562"><s
 trong>Time:&nbsp\;</strong>1-2 pm</p>\n\n<p data-end="625" data-is-last-n
 ode="" data-is-only-node="" data-start="583">Play sharp. Compete fair. Cl
 aim the table.</p></body></html>
END:VEVENT
END:VCALENDAR
